BEGIN:VCALENDAR
VERSION:2.0
PRODID:-//Trial FMI 2026 - ECPv5.14.0.4//NONSGML v1.0//EN
CALSCALE:GREGORIAN
METHOD:PUBLISH
X-WR-CALNAME:Trial FMI 2026
X-ORIGINAL-URL:https://trial.federmoto.it
X-WR-CALDESC:Eventi per Trial FMI 2026
BEGIN:VTIMEZONE
TZID:Europe/Rome
BEGIN:DAYLIGHT
TZOFFSETFROM:+0100
TZOFFSETTO:+0200
TZNAME:CEST
DTSTART:20260329T010000
END:DAYLIGHT
BEGIN:STANDARD
TZOFFSETFROM:+0200
TZOFFSETTO:+0100
TZNAME:CET
DTSTART:20261025T010000
END:STANDARD
END:VTIMEZONE
BEGIN:VEVENT
DTSTART;TZID=Europe/Rome:20260423T214420
DTEND;TZID=Europe/Rome:20260423T214420
DTSTAMP:20260423T214420
CREATED:20160227T140803Z
LAST-MODIFIED:20160227T140803Z
UID:6059-1776980660-1776980660@trial.federmoto.it
SUMMARY:CITO 2
DESCRIPTION:GARESSIO
URL:https://trial.federmoto.it/event/cito-2/
ATTACH;FMTTYPE=:
END:VEVENT
END:VCALENDAR